BEGIN:VCALENDAR
VERSION:2.0
PRODID:-//Wettstein Booking System//DE
CALSCALE:GREGORIAN
METHOD:PUBLISH
X-WR-CALNAME:Family Booking APP - Alle Wohnungen
X-WR-TIMEZONE:Europe/Zurich
BEGIN:VTIMEZONE
TZID:Europe/Zurich
BEGIN:DAYLIGHT
TZOFFSETFROM:+0100
TZOFFSETTO:+0200
TZNAME:CEST
DTSTART:19700329T020000
RRULE:FREQ=YEARLY;BYMONTH=3;BYDAY=-1SU
END:DAYLIGHT
BEGIN:STANDARD
TZOFFSETFROM:+0200
TZOFFSETTO:+0100
TZNAME:CET
DTSTART:19701025T030000
RRULE:FREQ=YEARLY;BYMONTH=10;BYDAY=-1SU
END:STANDARD
END:VTIMEZONE
BEGIN:VEVENT
UID:booking-22@wettstein.it
DTSTAMP:20260129T104705Z
DTSTART;VALUE=DATE:20260703
DTEND;VALUE=DATE:20260706
SUMMARY:🏔️ Renate & Aleksandar Waldmeier
DESCRIPTION:Wohnung: Lantsch/Lenz\\nFamilie: Renate & Aleksandar Waldmeier\\nPersonen: 2\\n
STATUS:CONFIRMED
TRANSP:OPAQUE
END:VEVENT
BEGIN:VEVENT
UID:booking-25@wettstein.it
DTSTAMP:20260129T104705Z
DTSTART;VALUE=DATE:20260706
DTEND;VALUE=DATE:20260718
SUMMARY:🏔️ Stefan Waldmeier
DESCRIPTION:Wohnung: Lantsch/Lenz\\nFamilie: Stefan Waldmeier\\nPersonen: 3\\nNotizen: Sind wohl nicht ganz Zeit in Lantsch\, daher flexibel\, wenn sonst jemand gehen möchte
STATUS:CONFIRMED
TRANSP:OPAQUE
END:VEVENT
BEGIN:VEVENT
UID:booking-19@wettstein.it
DTSTAMP:20260125T224926Z
DTSTART;VALUE=DATE:20260709
DTEND;VALUE=DATE:20260724
SUMMARY:🏖️ Renate & Aleksandar Waldmeier
DESCRIPTION:Wohnung: El Campello\\nFamilie: Renate & Aleksandar Waldmeier\\nPersonen: 3\\n
STATUS:CONFIRMED
TRANSP:OPAQUE
END:VEVENT
BEGIN:VEVENT
UID:booking-14@wettstein.it
DTSTAMP:20260112T205018Z
DTSTART;VALUE=DATE:20260724
DTEND;VALUE=DATE:20260806
SUMMARY:🏖️ Monika & Michael Wettstein
DESCRIPTION:Wohnung: El Campello\\nFamilie: Monika & Michael Wettstein\\nPersonen: 4\\nNotizen: Sommerferien
STATUS:CONFIRMED
TRANSP:OPAQUE
END:VEVENT
BEGIN:VEVENT
UID:booking-21@wettstein.it
DTSTAMP:20260126T074319Z
DTSTART;VALUE=DATE:20260802
DTEND;VALUE=DATE:20260810
SUMMARY:🏔️ Stefan Waldmeier
DESCRIPTION:Wohnung: Lantsch/Lenz\\nFamilie: Stefan Waldmeier\\nPersonen: 3\\nNotizen: Wie bereits schon einmal angefragt
STATUS:CONFIRMED
TRANSP:OPAQUE
END:VEVENT
BEGIN:VEVENT
UID:booking-27@wettstein.it
DTSTAMP:20260222T174326Z
DTSTART;VALUE=DATE:20270205
DTEND;VALUE=DATE:20270214
SUMMARY:🏔️ Stefan Waldmeier
DESCRIPTION:Wohnung: Lantsch/Lenz\\nFamilie: Stefan Waldmeier\\nPersonen: 3\\nNotizen: Anreise Freitagabend\, Abreise Samstagmorgen\, Reinigung 10.00
STATUS:CONFIRMED
TRANSP:OPAQUE
END:VEVENT
BEGIN:VEVENT
UID:request-req_69e5f6c07ac1b@wettstein.it
DTSTAMP:20260420T114952Z
DTSTART;VALUE=DATE:20260608
DTEND;VALUE=DATE:20260624
SUMMARY:⏳ 🏖️ Ursula & Urban Waldmeier (Anfrage)
DESCRIPTION:ANFRAGE - Noch nicht bestätigt\\n\\nWohnung: El Campello\\nFamilie: Ursula & Urban Waldmeier\\nPersonen: 2\\n
STATUS:TENTATIVE
TRANSP:TRANSPARENT
END:VEVENT
END:VCALENDAR
